BEGIN:VCALENDAR
VERSION:2.0
PRODID:-//Partnerschaft mit Allauch e.V. - ECPv6.15.18//NONSGML v1.0//EN
CALSCALE:GREGORIAN
METHOD:PUBLISH
X-WR-CALNAME:Partnerschaft mit Allauch e.V.
X-ORIGINAL-URL:https://vaterstetten-allauch.de
X-WR-CALDESC:Veranstaltungen für Partnerschaft mit Allauch e.V.
REFRESH-INTERVAL;VALUE=DURATION:PT1H
X-Robots-Tag:noindex
X-PUBLISHED-TTL:PT1H
BEGIN:VTIMEZONE
TZID:Europe/Berlin
BEGIN:DAYLIGHT
TZOFFSETFROM:+0100
TZOFFSETTO:+0200
TZNAME:CEST
DTSTART:20250330T010000
END:DAYLIGHT
BEGIN:STANDARD
TZOFFSETFROM:+0200
TZOFFSETTO:+0100
TZNAME:CET
DTSTART:20251026T010000
END:STANDARD
BEGIN:DAYLIGHT
TZOFFSETFROM:+0100
TZOFFSETTO:+0200
TZNAME:CEST
DTSTART:20260329T010000
END:DAYLIGHT
BEGIN:STANDARD
TZOFFSETFROM:+0200
TZOFFSETTO:+0100
TZNAME:CET
DTSTART:20261025T010000
END:STANDARD
BEGIN:DAYLIGHT
TZOFFSETFROM:+0100
TZOFFSETTO:+0200
TZNAME:CEST
DTSTART:20270328T010000
END:DAYLIGHT
BEGIN:STANDARD
TZOFFSETFROM:+0200
TZOFFSETTO:+0100
TZNAME:CET
DTSTART:20271031T010000
END:STANDARD
END:VTIMEZONE
BEGIN:VEVENT
DTSTART;VALUE=DATE:20260529
DTEND;VALUE=DATE:20260606
DTSTAMP:20260424T232705
CREATED:20260119T191853Z
LAST-MODIFIED:20260307T105903Z
UID:4672-1780012800-1780703999@vaterstetten-allauch.de
SUMMARY:Reise nach Allauch
DESCRIPTION:Wie auch in den letzten Jahren werden wir auch dieses Jahr eine Woche in unserer wunderschönen Partnerstadt Allauch verbringen. \nWenn Sie Lust auf freundschaftliche & familiäre Begegnungen\, kulturelle Eindrücke und die Provence in ihrer vollen Blüte im Juni haben\, dann tragen Sie sich doch schon mal unseren Reisetermin vom 29.05. – 05.06. in Ihren Kalender ein!\nDa wir wie immer in Gastfamilien untergebracht werden\, gibt es die Möglichkeit die französische Lebensart so zu erleben\, wie es sonst kaum möglich ist. Sie werden nicht nur mit alten und neuen Freunden und Familien aus Frankreich zurückkommen\, sondern auch mit zahlreichen schönen Erinnerungen an die gemeinsamen Momente und Ausflüge. \nSie haben Lust bekommen mitzufahren? Dann melden Sie sich doch gleich hier an! \nVor dem Start der Reise gibt es wie immer einen Infoabend mit allen nötigen Informationen – den Termin finden Sie rechtzeitig  hier und im Rundschreiben wenn wir ihn festgelegt haben. \nWenn Sie noch Fragen haben\, scheuen Sie sich nicht\, uns zu kontaktieren.
URL:https://vaterstetten-allauch.de/event/reise-nach-allauch-2/
LOCATION:Allauch\, Allauch\, Provence-Alpes-Côte d’Azur\, 13190
CATEGORIES:Reise
ATTACH;FMTTYPE=image/jpeg:https://vaterstetten-allauch.de/wp-content/uploads/2023/01/cropped-119560320_10158540796452207_8711444939508147254_n.jpg
END:VEVENT
END:VCALENDAR